BEGIN:VCALENDAR
VERSION:2.0
PRODID:-//Papillion Creek Watershed Partnership - ECPv6.15.20//NONSGML v1.0//EN
CALSCALE:GREGORIAN
METHOD:PUBLISH
X-ORIGINAL-URL:https://papiopartnership.org
X-WR-CALDESC:Events for Papillion Creek Watershed Partnership
REFRESH-INTERVAL;VALUE=DURATION:PT1H
X-Robots-Tag:noindex
X-PUBLISHED-TTL:PT1H
BEGIN:VTIMEZONE
TZID:America/Chicago
BEGIN:DAYLIGHT
TZOFFSETFROM:-0600
TZOFFSETTO:-0500
TZNAME:CDT
DTSTART:20250309T080000
END:DAYLIGHT
BEGIN:STANDARD
TZOFFSETFROM:-0500
TZOFFSETTO:-0600
TZNAME:CST
DTSTART:20251102T070000
END:STANDARD
BEGIN:DAYLIGHT
TZOFFSETFROM:-0600
TZOFFSETTO:-0500
TZNAME:CDT
DTSTART:20260308T080000
END:DAYLIGHT
BEGIN:STANDARD
TZOFFSETFROM:-0500
TZOFFSETTO:-0600
TZNAME:CST
DTSTART:20261101T070000
END:STANDARD
BEGIN:DAYLIGHT
TZOFFSETFROM:-0600
TZOFFSETTO:-0500
TZNAME:CDT
DTSTART:20270314T080000
END:DAYLIGHT
BEGIN:STANDARD
TZOFFSETFROM:-0500
TZOFFSETTO:-0600
TZNAME:CST
DTSTART:20271107T070000
END:STANDARD
END:VTIMEZONE
BEGIN:VEVENT
DTSTART;TZID=America/Chicago:20260226T110000
DTEND;TZID=America/Chicago:20260226T120000
DTSTAMP:20260424T134636
CREATED:20260223T191348Z
LAST-MODIFIED:20260223T192528Z
UID:4709-1772103600-1772107200@papiopartnership.org
SUMMARY:February 2026 Partnership Meeting
DESCRIPTION:Click here for meeting agenda.
URL:https://papiopartnership.org/event/february-2026-partnership-meeting/
LOCATION:Papio-Missouri River NRD\, 8901 S. 154th St.\, Omaha\, NE\, 68138\, United States
ATTACH;FMTTYPE=image/jpeg:https://papiopartnership.org/wp-content/uploads/2026/02/Meeting-Notice-Graphics.jpg
END:VEVENT
END:VCALENDAR