BEGIN:VCALENDAR
VERSION:2.0
PRODID:-//Papillion Creek Watershed Partnership - ECPv6.15.20//NONSGML v1.0//EN
CALSCALE:GREGORIAN
METHOD:PUBLISH
X-WR-CALNAME:Papillion Creek Watershed Partnership
X-ORIGINAL-URL:https://papiopartnership.org
X-WR-CALDESC:Events for Papillion Creek Watershed Partnership
REFRESH-INTERVAL;VALUE=DURATION:PT1H
X-Robots-Tag:noindex
X-PUBLISHED-TTL:PT1H
BEGIN:VTIMEZONE
TZID:America/Chicago
BEGIN:DAYLIGHT
TZOFFSETFROM:-0600
TZOFFSETTO:-0500
TZNAME:CDT
DTSTART:20220313T080000
END:DAYLIGHT
BEGIN:STANDARD
TZOFFSETFROM:-0500
TZOFFSETTO:-0600
TZNAME:CST
DTSTART:20221106T070000
END:STANDARD
BEGIN:DAYLIGHT
TZOFFSETFROM:-0600
TZOFFSETTO:-0500
TZNAME:CDT
DTSTART:20230312T080000
END:DAYLIGHT
BEGIN:STANDARD
TZOFFSETFROM:-0500
TZOFFSETTO:-0600
TZNAME:CST
DTSTART:20231105T070000
END:STANDARD
BEGIN:DAYLIGHT
TZOFFSETFROM:-0600
TZOFFSETTO:-0500
TZNAME:CDT
DTSTART:20240310T080000
END:DAYLIGHT
BEGIN:STANDARD
TZOFFSETFROM:-0500
TZOFFSETTO:-0600
TZNAME:CST
DTSTART:20241103T070000
END:STANDARD
BEGIN:DAYLIGHT
TZOFFSETFROM:-0600
TZOFFSETTO:-0500
TZNAME:CDT
DTSTART:20250309T080000
END:DAYLIGHT
BEGIN:STANDARD
TZOFFSETFROM:-0500
TZOFFSETTO:-0600
TZNAME:CST
DTSTART:20251102T070000
END:STANDARD
BEGIN:DAYLIGHT
TZOFFSETFROM:-0600
TZOFFSETTO:-0500
TZNAME:CDT
DTSTART:20260308T080000
END:DAYLIGHT
BEGIN:STANDARD
TZOFFSETFROM:-0500
TZOFFSETTO:-0600
TZNAME:CST
DTSTART:20261101T070000
END:STANDARD
BEGIN:DAYLIGHT
TZOFFSETFROM:-0600
TZOFFSETTO:-0500
TZNAME:CDT
DTSTART:20270314T080000
END:DAYLIGHT
BEGIN:STANDARD
TZOFFSETFROM:-0500
TZOFFSETTO:-0600
TZNAME:CST
DTSTART:20271107T070000
END:STANDARD
END:VTIMEZONE
BEGIN:VEVENT
DTSTART;TZID=America/Chicago:20260226T110000
DTEND;TZID=America/Chicago:20260226T120000
DTSTAMP:20260424T092050
CREATED:20260223T191348Z
LAST-MODIFIED:20260223T192528Z
UID:4709-1772103600-1772107200@papiopartnership.org
SUMMARY:February 2026 Partnership Meeting
DESCRIPTION:Click here for meeting agenda.
URL:https://papiopartnership.org/event/february-2026-partnership-meeting/
LOCATION:Papio-Missouri River NRD\, 8901 S. 154th St.\, Omaha\, NE\, 68138\, United States
ATTACH;FMTTYPE=image/jpeg:https://papiopartnership.org/wp-content/uploads/2026/02/Meeting-Notice-Graphics.jpg
END:VEVENT
BEGIN:VEVENT
DTSTART;TZID=America/Chicago:20250227T100000
DTEND;TZID=America/Chicago:20250227T113000
DTSTAMP:20260424T092050
CREATED:20250221T181946Z
LAST-MODIFIED:20250221T181946Z
UID:4485-1740650400-1740655800@papiopartnership.org
SUMMARY:February 2025 Partnership Meeting
DESCRIPTION:The February 2025 Papio Partnership Meeting will be held in person in the Lower Level Conference Room at the Papio-Missouri River NRD office. \nClick here for the agenda.
URL:https://papiopartnership.org/event/february-2025-partnership-meeting/
LOCATION:Papio-Missouri River NRD\, 8901 S. 154th St.\, Omaha\, NE\, 68138\, United States
ATTACH;FMTTYPE=image/png:https://papiopartnership.org/wp-content/uploads/2025/02/Meeting-Notice-Graphics-7.png
END:VEVENT
BEGIN:VEVENT
DTSTART;TZID=America/Chicago:20240907T120000
DTEND;TZID=America/Chicago:20240907T160000
DTSTAMP:20260424T092050
CREATED:20240826T181609Z
LAST-MODIFIED:20240826T181609Z
UID:4405-1725710400-1725724800@papiopartnership.org
SUMMARY:World O! Water
DESCRIPTION:World O! Water is on Saturday\, September 7th\, from 12-4pm at Chalco Hills Recreation Area. The whole family can enjoy this free event featuring science\, water\, and wildlife exhibits\, with a free lunch sponsored by Hy-Vee and Rotella’s Italian Bakery (while supplies last). Over 60 supporting organizations will provide free\, educational and hands-on activities\, including: science\, water\, and wildlife exhibits\, games and crafts\, face painting\, nature walks\, and more! The event is open to individuals of all ages\, including youth groups\, scout troops\, and families. Details at WorldOWater.org.\n\n\n\nWorld O! Water is presented by the City of Omaha Public Works Department\, Keep Omaha Beautiful\, the Papio-Missouri River National Resources District\, and the Papillion Creek Watershed Partnership.
URL:https://papiopartnership.org/event/world-o-water/
LOCATION:Papio-Missouri River NRD\, 8901 S. 154th St.\, Omaha\, NE\, 68138\, United States
ATTACH;FMTTYPE=image/jpeg:https://papiopartnership.org/wp-content/uploads/2024/08/WOW.jpg
END:VEVENT
BEGIN:VEVENT
DTSTART;TZID=America/Chicago:20240822T100000
DTEND;TZID=America/Chicago:20240822T110000
DTSTAMP:20260424T092050
CREATED:20240806T171305Z
LAST-MODIFIED:20240816T161130Z
UID:4279-1724320800-1724324400@papiopartnership.org
SUMMARY:August Partnership Meeting
DESCRIPTION:This meeting will be held on Zoom. Click here for the meeting link and agenda.
URL:https://papiopartnership.org/event/august-partnership-meeting/
LOCATION:Virtual
ATTACH;FMTTYPE=image/png:https://papiopartnership.org/wp-content/uploads/2024/08/Meeting-Notice-Graphics-4.png
END:VEVENT
BEGIN:VEVENT
DTSTART;TZID=America/Chicago:20240725T100000
DTEND;TZID=America/Chicago:20240725T113000
DTSTAMP:20260424T092050
CREATED:20240520T201544Z
LAST-MODIFIED:20240520T201544Z
UID:4181-1721901600-1721907000@papiopartnership.org
SUMMARY:July Partnership Meeting
DESCRIPTION:Agenda will be posted prior to the meeting.
URL:https://papiopartnership.org/event/july-partnership-meeting-2/
LOCATION:Papio-Missouri River NRD\, 8901 S. 154th St.\, Omaha\, NE\, 68138\, United States
ATTACH;FMTTYPE=image/png:https://papiopartnership.org/wp-content/uploads/2024/05/Meeting-Notice-Graphics-3.png
END:VEVENT
BEGIN:VEVENT
DTSTART;TZID=America/Chicago:20240627T100000
DTEND;TZID=America/Chicago:20240627T113000
DTSTAMP:20260424T092050
CREATED:20240520T201448Z
LAST-MODIFIED:20240520T201448Z
UID:4178-1719482400-1719487800@papiopartnership.org
SUMMARY:June Partnership Meeting
DESCRIPTION:Agenda will be posted prior to the meeting.
URL:https://papiopartnership.org/event/june-partnership-meeting-2/
LOCATION:Papio-Missouri River NRD\, 8901 S. 154th St.\, Omaha\, NE\, 68138\, United States
ATTACH;FMTTYPE=image/png:https://papiopartnership.org/wp-content/uploads/2024/05/Meeting-Notice-Graphics-2.png
END:VEVENT
BEGIN:VEVENT
DTSTART;TZID=America/Chicago:20240425T100000
DTEND;TZID=America/Chicago:20240425T110000
DTSTAMP:20260424T092050
CREATED:20240401T135228Z
LAST-MODIFIED:20240422T165651Z
UID:4104-1714039200-1714042800@papiopartnership.org
SUMMARY:April Partnership Meeting
DESCRIPTION:The April meeting will be held on Zoom. Please click here to register. \nClick here for meeting agenda.
URL:https://papiopartnership.org/event/april-partnership-meeting/
LOCATION:Virtual
ATTACH;FMTTYPE=image/png:https://papiopartnership.org/wp-content/uploads/2024/04/Meeting-Notice-Graphics.png
END:VEVENT
BEGIN:VEVENT
DTSTART;TZID=America/Chicago:20240328T100000
DTEND;TZID=America/Chicago:20240328T113000
DTSTAMP:20260424T092050
CREATED:20240215T162548Z
LAST-MODIFIED:20240321T200651Z
UID:3544-1711620000-1711625400@papiopartnership.org
SUMMARY:March 2024 Partnership Meeting
DESCRIPTION:Click here for the meeting agenda.
URL:https://papiopartnership.org/event/march-2024-partnership-meeting/
LOCATION:Papio-Missouri River NRD\, 8901 S. 154th St.\, Omaha\, NE\, 68138\, United States
ATTACH;FMTTYPE=image/jpeg:https://papiopartnership.org/wp-content/uploads/2023/07/Meeting.jpg
END:VEVENT
BEGIN:VEVENT
DTSTART;TZID=America/Chicago:20240328T083000
DTEND;TZID=America/Chicago:20240328T090000
DTSTAMP:20260424T092050
CREATED:20240313T165107Z
LAST-MODIFIED:20240313T165107Z
UID:4023-1711614600-1711616400@papiopartnership.org
SUMMARY:March 28 Partnership Briefing
DESCRIPTION:Since 2001\, the Papillion Creek Watershed Partnership has worked together to tackle water quality and flooding concerns in the metro area. This year\, they’re renewing their commitment for the 6th time. Their goal is to improve water quality and manage stormwater effectively in the watershed. By pooling expertise and resources\, communities meet regulatory requirements for stormwater at low costs. In collaboration with the Papio-Missouri River Natural Resources District four flood control structures are complete\, with three more underway\, helping to reduce flood risk throughout the metro area. Continuing this partnership is crucial for regulatory compliance and community safety. \nWe invite you to join one of three virtual briefings to learn more about the Partnership and the upcoming agreement. Each session will have a short presentation and allow time for questions to be answered. \nBriefing Schedule: \n\nMarch 25\, 2024 at 12:00 pm\nMarch 27\, 2024 at 4:30 pm\nMarch 28\, 2024 at 8:30 am\n\nPlease register for the session that works best for you at this link: https://calendly.com/rdgpd/papillion-creek-watershed-5-year-plan.
URL:https://papiopartnership.org/event/march-28-partnership-briefing/
LOCATION:Virtual
END:VEVENT
BEGIN:VEVENT
DTSTART;TZID=America/Chicago:20240327T163000
DTEND;TZID=America/Chicago:20240327T173000
DTSTAMP:20260424T092050
CREATED:20240313T165022Z
LAST-MODIFIED:20240313T165022Z
UID:4021-1711557000-1711560600@papiopartnership.org
SUMMARY:March 27 Partnership Briefing
DESCRIPTION:Since 2001\, the Papillion Creek Watershed Partnership has worked together to tackle water quality and flooding concerns in the metro area. This year\, they’re renewing their commitment for the 6th time. Their goal is to improve water quality and manage stormwater effectively in the watershed. By pooling expertise and resources\, communities meet regulatory requirements for stormwater at low costs. In collaboration with the Papio-Missouri River Natural Resources District four flood control structures are complete\, with three more underway\, helping to reduce flood risk throughout the metro area. Continuing this partnership is crucial for regulatory compliance and community safety. \nWe invite you to join one of three virtual briefings to learn more about the Partnership and the upcoming agreement. Each session will have a short presentation and allow time for questions to be answered. \nBriefing Schedule: \n\nMarch 25\, 2024 at 12:00 pm\nMarch 27\, 2024 at 4:30 pm\nMarch 28\, 2024 at 8:30 am\n\nPlease register for the session that works best for you at this link: https://calendly.com/rdgpd/papillion-creek-watershed-5-year-plan.
URL:https://papiopartnership.org/event/march-27-partnership-briefing/
LOCATION:Virtual
END:VEVENT
BEGIN:VEVENT
DTSTART;TZID=America/Chicago:20240325T120000
DTEND;TZID=America/Chicago:20240325T130000
DTSTAMP:20260424T092050
CREATED:20240313T164857Z
LAST-MODIFIED:20240313T164857Z
UID:4017-1711368000-1711371600@papiopartnership.org
SUMMARY:March 25 Partnership Briefing
DESCRIPTION:Since 2001\, the Papillion Creek Watershed Partnership has worked together to tackle water quality and flooding concerns in the metro area. This year\, they’re renewing their commitment for the 6th time. Their goal is to improve water quality and manage stormwater effectively in the watershed. By pooling expertise and resources\, communities meet regulatory requirements for stormwater at low costs. In collaboration with the Papio-Missouri River Natural Resources District four flood control structures are complete\, with three more underway\, helping to reduce flood risk throughout the metro area. Continuing this partnership is crucial for regulatory compliance and community safety. \nWe invite you to join one of three virtual briefings to learn more about the Partnership and the upcoming agreement. Each session will have a short presentation and allow time for questions to be answered. \nBriefing Schedule: \n\nMarch 25\, 2024 at 12:00 pm\nMarch 27\, 2024 at 4:30 pm\nMarch 28\, 2024 at 8:30 am\n\nPlease register for the session that works best for you at this link: https://calendly.com/rdgpd/papillion-creek-watershed-5-year-plan.
URL:https://papiopartnership.org/event/march-25-partnership-briefing/
LOCATION:Virtual
END:VEVENT
BEGIN:VEVENT
DTSTART;TZID=America/Chicago:20240228T100000
DTEND;TZID=America/Chicago:20240228T113000
DTSTAMP:20260424T092050
CREATED:20240122T203521Z
LAST-MODIFIED:20240223T140334Z
UID:3532-1709114400-1709119800@papiopartnership.org
SUMMARY:February 2024 Partnership Meeting
DESCRIPTION:Click here for meeting agenda.
URL:https://papiopartnership.org/event/february-2024-partnership-meeting/
LOCATION:Papio-Missouri River NRD\, 8901 S. 154th St.\, Omaha\, NE\, 68138\, United States
ATTACH;FMTTYPE=image/jpeg:https://papiopartnership.org/wp-content/uploads/2023/07/Meeting.jpg
END:VEVENT
BEGIN:VEVENT
DTSTART;TZID=America/Chicago:20240125T100000
DTEND;TZID=America/Chicago:20240125T113000
DTSTAMP:20260424T092050
CREATED:20240122T203406Z
LAST-MODIFIED:20240122T203406Z
UID:3529-1706176800-1706182200@papiopartnership.org
SUMMARY:January 2024 Partnership Meeting
DESCRIPTION:Click here for meeting agenda.
URL:https://papiopartnership.org/event/january-2024-partnership-meeting/
LOCATION:Papio-Missouri River NRD\, 8901 S. 154th St.\, Omaha\, NE\, 68138\, United States
ATTACH;FMTTYPE=image/jpeg:https://papiopartnership.org/wp-content/uploads/2023/07/Meeting.jpg
END:VEVENT
BEGIN:VEVENT
DTSTART;TZID=America/Chicago:20230928T100000
DTEND;TZID=America/Chicago:20230928T113000
DTSTAMP:20260424T092050
CREATED:20230922T204545Z
LAST-MODIFIED:20230925T204723Z
UID:3333-1695895200-1695900600@papiopartnership.org
SUMMARY:September Partnership Meeting
DESCRIPTION:Click here for meeting agenda.
URL:https://papiopartnership.org/event/september-partnership-meeting/
LOCATION:Papio-Missouri River NRD\, 8901 S. 154th St.\, Omaha\, NE\, 68138\, United States
ATTACH;FMTTYPE=image/jpeg:https://papiopartnership.org/wp-content/uploads/2023/07/Meeting.jpg
END:VEVENT
BEGIN:VEVENT
DTSTART;TZID=America/Chicago:20230727T100000
DTEND;TZID=America/Chicago:20230727T113000
DTSTAMP:20260424T092050
CREATED:20230721T164758Z
LAST-MODIFIED:20230721T164758Z
UID:3299-1690452000-1690457400@papiopartnership.org
SUMMARY:July Partnership Meeting
DESCRIPTION:Click here for the agenda.
URL:https://papiopartnership.org/event/july-partnership-meeting/
LOCATION:Papio-Missouri River NRD\, 8901 S. 154th St.\, Omaha\, NE\, 68138\, United States
ATTACH;FMTTYPE=image/jpeg:https://papiopartnership.org/wp-content/uploads/2023/07/Meeting.jpg
END:VEVENT
BEGIN:VEVENT
DTSTART;TZID=America/Chicago:20230629T100000
DTEND;TZID=America/Chicago:20230629T113000
DTSTAMP:20260424T092050
CREATED:20230626T165403Z
LAST-MODIFIED:20230626T165759Z
UID:3276-1688032800-1688038200@papiopartnership.org
SUMMARY:June Partnership Meeting
DESCRIPTION:June Partnership Meeting Agenda  \n 
URL:https://papiopartnership.org/event/june-partnership-meeting/
LOCATION:Papio-Missouri River NRD\, 8901 S. 154th St.\, Omaha\, NE\, 68138\, United States
END:VEVENT
BEGIN:VEVENT
DTSTART;TZID=America/Chicago:20230525T100000
DTEND;TZID=America/Chicago:20230525T113000
DTSTAMP:20260424T092050
CREATED:20230522T133931Z
LAST-MODIFIED:20230522T133931Z
UID:3228-1685008800-1685014200@papiopartnership.org
SUMMARY:May Partnership Meeting
DESCRIPTION:Meeting Agenda
URL:https://papiopartnership.org/event/may-partnership-meeting/
LOCATION:Papio-Missouri River NRD\, 8901 S. 154th St.\, Omaha\, NE\, 68138\, United States
ATTACH;FMTTYPE=image/png:https://papiopartnership.org/wp-content/uploads/2023/05/Partnership.png
END:VEVENT
BEGIN:VEVENT
DTSTART;TZID=America/Chicago:20230427T100000
DTEND;TZID=America/Chicago:20230427T113000
DTSTAMP:20260424T092050
CREATED:20230328T210032Z
LAST-MODIFIED:20230328T210032Z
UID:3125-1682589600-1682595000@papiopartnership.org
SUMMARY:April PCWP Meeting
DESCRIPTION:Meeting agenda will be available before the meeting.
URL:https://papiopartnership.org/event/april-pcwp-meeting/
LOCATION:Papio-Missouri River NRD\, 8901 S. 154th St.\, Omaha\, NE\, 68138\, United States
END:VEVENT
BEGIN:VEVENT
DTSTART;TZID=America/Chicago:20230330T100000
DTEND;TZID=America/Chicago:20230330T113000
DTSTAMP:20260424T092050
CREATED:20230309T014644Z
LAST-MODIFIED:20230328T205932Z
UID:3090-1680170400-1680175800@papiopartnership.org
SUMMARY:March Partnership Meeting
DESCRIPTION:The PCWP will hold its March meeting on March 30\, 2023 at 10 am. \nMarch 30\, 2023 Agenda
URL:https://papiopartnership.org/event/march-partnership-meeting/
LOCATION:Papio-Missouri River NRD\, 8901 S. 154th St.\, Omaha\, NE\, 68138\, United States
END:VEVENT
END:VCALENDAR